BEGIN:VCALENDAR
VERSION:2.0
METHOD:PUBLISH
BEGIN:VEVENT
DTSTAMP:20260420T234901Z
DTSTART:20241218T183000Z
DTEND:20241218T203000Z
SUMMARY:EarlyON Baby Time
LOCATION:Aldborough Child &amp; Family Centre, south parking lot, 11443 Furnival Rd. Rodney, N0L 2C0
END:VEVENT
END:VCALENDAR
