BEGIN:VCALENDAR
VERSION:2.0
METHOD:PUBLISH
BEGIN:VEVENT
DTSTAMP:20260419T122806Z
DTSTART:20260914T130000Z
DTEND:20260914T130000Z
SUMMARY:Four Counties Transit Committee
END:VEVENT
END:VCALENDAR
