BEGIN:VCALENDAR
VERSION:2.0
METHOD:PUBLISH
BEGIN:VEVENT
DTSTAMP:20260420T205256Z
DTSTART:20260708T130000Z
DTEND:20260708T130000Z
SUMMARY:Bo Horvat Community Centre Board of Management
END:VEVENT
END:VCALENDAR
