BEGIN:VCALENDAR
VERSION:2.0
METHOD:PUBLISH
BEGIN:VEVENT
DTSTAMP:20260419T121846Z
DTSTART:20260610T130000Z
DTEND:20260610T130000Z
SUMMARY:Bo Horvat Community Centre Board of Management
END:VEVENT
END:VCALENDAR
